BEGIN:VCALENDAR
VERSION:2.0
PRODID:-//Federate SDV - ECPv6.15.19//NONSGML v1.0//EN
CALSCALE:GREGORIAN
METHOD:PUBLISH
X-WR-CALNAME:Federate SDV
X-ORIGINAL-URL:https://federate-sdv.eu
X-WR-CALDESC:Events for Federate SDV
REFRESH-INTERVAL;VALUE=DURATION:PT1H
X-Robots-Tag:noindex
X-PUBLISHED-TTL:PT1H
BEGIN:VTIMEZONE
TZID:Europe/Helsinki
BEGIN:DAYLIGHT
TZOFFSETFROM:+0200
TZOFFSETTO:+0300
TZNAME:EEST
DTSTART:20240331T010000
END:DAYLIGHT
BEGIN:STANDARD
TZOFFSETFROM:+0300
TZOFFSETTO:+0200
TZNAME:EET
DTSTART:20241027T010000
END:STANDARD
BEGIN:DAYLIGHT
TZOFFSETFROM:+0200
TZOFFSETTO:+0300
TZNAME:EEST
DTSTART:20250330T010000
END:DAYLIGHT
BEGIN:STANDARD
TZOFFSETFROM:+0300
TZOFFSETTO:+0200
TZNAME:EET
DTSTART:20251026T010000
END:STANDARD
BEGIN:DAYLIGHT
TZOFFSETFROM:+0200
TZOFFSETTO:+0300
TZNAME:EEST
DTSTART:20260329T010000
END:DAYLIGHT
BEGIN:STANDARD
TZOFFSETFROM:+0300
TZOFFSETTO:+0200
TZNAME:EET
DTSTART:20261025T010000
END:STANDARD
END:VTIMEZONE
BEGIN:VEVENT
DTSTART;TZID=Europe/Helsinki:20250227T113000
DTEND;TZID=Europe/Helsinki:20250227T120000
DTSTAMP:20260422T215946
CREATED:20250224T152427Z
LAST-MODIFIED:20250225T095733Z
UID:2231-1740655800-1740657600@federate-sdv.eu
SUMMARY:FEDERATE’s 2nd Webinar
DESCRIPTION:Join Peter Priller (AVL List GmbH) as he unveils the Vision & Roadmap of the Software-Defined Vehicle of the Future Initiative. Discover how software innovation is revolutionizing mobility and what it means for the industry’s future. \nhttps://vdivdeit.webex.com/weblink/register/r763a7a9242c45cbe7f11cd6a3ce9ed6a
URL:https://federate-sdv.eu/event/federates-2nd-webinar/
LOCATION:Online
END:VEVENT
BEGIN:VEVENT
DTSTART;TZID=Europe/Helsinki:20250219T170000
DTEND;TZID=Europe/Helsinki:20250219T170000
DTSTAMP:20260422T215946
CREATED:20250225T100426Z
LAST-MODIFIED:20250227T115525Z
UID:2245-1739984400-1739984400@federate-sdv.eu
SUMMARY:SDVoF TechTalk - XEN Hypervisor for Automotive\, Real-Time and Safety! with Stefano Stabellini\, AMD
DESCRIPTION:Topic: XEN for Automotive\, Real-Time and Safety!.\n‌\nPresenter**:  Stefano Stabellini** @ AMD\n‌\nXEN at glance:\n·        A Linux Foundation Project\n·        The Xen Project team is a global open source community that develops the Xen Project Hypervisor and its associated subprojects.\n·        Our mission is to advance virtualization technology across a wide range of commercial and open-source domains.\nThe Xen Project focuses on revolutionizing virtualization by providing a versatile and powerful hypervisor that addresses the evolving needs of diverse industries :\n·        Empower Innovation: Tailored virtualization to drive progress across various domains.\n·        Enhance Cloud Ecosystems: Elevate cloud capabilities with high-performing\, reliable virtualization.\n·        Secure Critical Systems: Safeguard data and applications through industry-leading security.\n·        Revolutionize Embedded Technologies: Transform embedded and automotive sectors with mature\, safe\, secure solutions. \nClick here to see the recording \nLink: ________________________________________________________________________________\nMicrosoft Teams Ben��en Sie Hilfe?\nJetzt an der Besprechung teilnehmen\nBesprechungs-ID: 313 747 023 867\nKennung: F589R7of
URL:https://federate-sdv.eu/event/sdvof-techtalk-xen-hypervisor-for-automotive-real-time-and-safety-with-stefano-stabellini-amd/
LOCATION:Online
END:VEVENT
END:VCALENDAR