BEGIN:VCALENDAR
VERSION:2.0
PRODID:-//Federate SDV - ECPv6.15.19//NONSGML v1.0//EN
CALSCALE:GREGORIAN
METHOD:PUBLISH
X-ORIGINAL-URL:https://federate-sdv.eu
X-WR-CALDESC:Events for Federate SDV
REFRESH-INTERVAL;VALUE=DURATION:PT1H
X-Robots-Tag:noindex
X-PUBLISHED-TTL:PT1H
BEGIN:VTIMEZONE
TZID:Europe/Vilnius
BEGIN:DAYLIGHT
TZOFFSETFROM:+0200
TZOFFSETTO:+0300
TZNAME:EEST
DTSTART:20240331T010000
END:DAYLIGHT
BEGIN:STANDARD
TZOFFSETFROM:+0300
TZOFFSETTO:+0200
TZNAME:EET
DTSTART:20241027T010000
END:STANDARD
BEGIN:DAYLIGHT
TZOFFSETFROM:+0200
TZOFFSETTO:+0300
TZNAME:EEST
DTSTART:20250330T010000
END:DAYLIGHT
BEGIN:STANDARD
TZOFFSETFROM:+0300
TZOFFSETTO:+0200
TZNAME:EET
DTSTART:20251026T010000
END:STANDARD
BEGIN:DAYLIGHT
TZOFFSETFROM:+0200
TZOFFSETTO:+0300
TZNAME:EEST
DTSTART:20260329T010000
END:DAYLIGHT
BEGIN:STANDARD
TZOFFSETFROM:+0300
TZOFFSETTO:+0200
TZNAME:EET
DTSTART:20261025T010000
END:STANDARD
END:VTIMEZONE
BEGIN:VEVENT
DTSTART;TZID=Europe/Vilnius:20250520T090000
DTEND;TZID=Europe/Vilnius:20250520T090000
DTSTAMP:20260421T202358
CREATED:20250304T174031Z
LAST-MODIFIED:20250513T084211Z
UID:2300-1747731600-1747731600@federate-sdv.eu
SUMMARY:European SDV Ecosystem Summit 2025
DESCRIPTION:An SDV Ecosystem Forum Networking Event by FEDERATE\nWe invite you to register for the European SDV Ecosystem Summit 2025\, which will be held on 20. May 2025\, 9:00 a.m. – 5:00 p.m. (CET) @Infineon Technologies AG\, Am Campeon 1–15 85579 Neubiberg-Munich\, Germany. \nSee Link to Visitor Information \nThe European SDV Ecosystem Summit 2025 is free of charge.  \nThe Event will feature engaging discussions\, interactive sessions and keynote presentations\, providing valuable perspectives and networking opportunities. \nEvent Highlights: \n\nLatest updates on the European Software-Defined Vehicle of the Future Initiative and its projects\nInsights into global SDV initiatives and projects\nOutlook on a coordinated SDV structure approach – from stand-alone bits & individual components to a fully integrated stack\nReference structure: What will the SDV of the Future run on?\nSoftware architecture\n\nAGENDA \nLast Registration Day for the Event – 11th May 2025 \nThis event will take place one day before the Automotive Software Strategies Conference in Munich (Link to Conference) \n  \n\nGet a discount of 20%. Just register on http://www.ultimamedia.de with the promotion code: 82510112-EU20 \n\n  \nRegistration for the event is now closed.\n  \n\n  \nClick the button below to easily save this event to your calendar.
URL:https://federate-sdv.eu/event/european-sdv-ecosystem-summit-2025/
LOCATION:Infineon Technologies AG\, Am Campeon 1–15\, Neubiberg\, Munich\, 85579\, Germany
ATTACH;FMTTYPE=image/jpeg:https://federate-sdv.eu/wp-content/uploads/2025/03/freepik__end-the-areas__66733.jpeg
END:VEVENT
END:VCALENDAR